BEGIN:VCALENDAR
VERSION:2.0
PRODID:-//Turismo Campiña Sur - ECPv6.13.2.1//NONSGML v1.0//EN
CALSCALE:GREGORIAN
METHOD:PUBLISH
X-WR-CALNAME:Turismo Campiña Sur
X-ORIGINAL-URL:https://turismo.campisur.eu
X-WR-CALDESC:Eventos para Turismo Campiña Sur
REFRESH-INTERVAL;VALUE=DURATION:PT1H
X-Robots-Tag:noindex
X-PUBLISHED-TTL:PT1H
BEGIN:VTIMEZONE
TZID:Europe/Madrid
BEGIN:DAYLIGHT
TZOFFSETFROM:+0100
TZOFFSETTO:+0200
TZNAME:CEST
DTSTART:20250330T010000
END:DAYLIGHT
BEGIN:STANDARD
TZOFFSETFROM:+0200
TZOFFSETTO:+0100
TZNAME:CET
DTSTART:20251026T010000
END:STANDARD
END:VTIMEZONE
BEGIN:VEVENT
DTSTART;TZID=Europe/Madrid:20251102T080000
DTEND;TZID=Europe/Madrid:20251102T170000
DTSTAMP:20260425T202504
CREATED:20250923T092115Z
LAST-MODIFIED:20250923T092115Z
UID:8466-1762070400-1762102800@turismo.campisur.eu
SUMMARY:Trail Castillo Anzur
DESCRIPTION:Inscripciones\n\n\nNo te quedes sin tu plaza
URL:https://turismo.campisur.eu/evento/trail-castillo-anzur/
LOCATION:Puente Genil\, Córdoba\, 14500\, Spain
CATEGORIES:Puente Genil
ATTACH;FMTTYPE=image/jpeg:https://turismo.campisur.eu/wp-content/uploads/2025/09/2-noviembre-cartel-trail-anzur.jpg
END:VEVENT
END:VCALENDAR