BEGIN:VCALENDAR
VERSION:2.0
PRODID:-//Turismo Campiña Sur - ECPv6.13.2.1//NONSGML v1.0//EN
CALSCALE:GREGORIAN
METHOD:PUBLISH
X-ORIGINAL-URL:https://turismo.campisur.eu
X-WR-CALDESC:Eventos para Turismo Campiña Sur
REFRESH-INTERVAL;VALUE=DURATION:PT1H
X-Robots-Tag:noindex
X-PUBLISHED-TTL:PT1H
BEGIN:VTIMEZONE
TZID:Europe/Madrid
BEGIN:DAYLIGHT
TZOFFSETFROM:+0100
TZOFFSETTO:+0200
TZNAME:CEST
DTSTART:20250330T010000
END:DAYLIGHT
BEGIN:STANDARD
TZOFFSETFROM:+0200
TZOFFSETTO:+0100
TZNAME:CET
DTSTART:20251026T010000
END:STANDARD
END:VTIMEZONE
BEGIN:VEVENT
DTSTART;TZID=Europe/Madrid:20250620T080000
DTEND;TZID=Europe/Madrid:20250914T170000
DTSTAMP:20260425T231007
CREATED:20250721T101949Z
LAST-MODIFIED:20250721T102135Z
UID:7629-1750406400-1757869200@turismo.campisur.eu
SUMMARY:Noches en la Villa
DESCRIPTION:Del 20 de junio al 14 de septiembre\, la Villa Romana de Fuente Álamo se transforma en un escenario mágico con la nueva edición de Noches en la Villa. \nUn programa fascinante de actividades culturales\, visitas nocturnas\, talleres\, teatro\, astronomía\, degustaciones y recreaciones históricas en un entorno único bajo el cielo estival. \n🎭 Agripina\, Heliogábalo o Venus y Baco cobrarán vida en el teatro romano. 🔭 Contempla la Vía Láctea con científicos de la UCO. 🍷 Saborea vinos Montilla-Moriles en catas con poesía y música. 🧩 Atrévete con las Yincanas nocturnas. 👧🧒 Y para los más pequeños\, talleres de máscaras\, joyas\, cerámica y astronomía mitológica. \n📍 Inscripciones gratuitas (máx. 3 actividades por persona) en: www.fuentealamovillaromana.com \nAdemás descubre el yacimiento bajo otra luz. Vive “El sonido nocturno de la historia”. *Tiene coste de entrada. \n¡Te esperamos bajo las estrellas! 🌌 \nPrograma Noches en la Villa
URL:https://turismo.campisur.eu/evento/noches-en-la-villa-2/
LOCATION:Córdoba
CATEGORIES:Puente Genil
ATTACH;FMTTYPE=image/jpeg:https://turismo.campisur.eu/wp-content/uploads/2025/07/Noches-en-la-villa.jpg
END:VEVENT
BEGIN:VEVENT
DTSTART;TZID=Europe/Madrid:20250726T220000
DTEND;TZID=Europe/Madrid:20250904T000000
DTSTAMP:20260425T231007
CREATED:20250722T081733Z
LAST-MODIFIED:20250723T063049Z
UID:7654-1753567200-1756944000@turismo.campisur.eu
SUMMARY:Cine de Verano
DESCRIPTION:Programación de cine de verano en el Auditorio Municipal “Hermanos Cuenca” del Parque de Los Pinos\, en Puente Genil. \nLas entradas se pueden en https://multicinepuentegenil.sacatuentrada.es/ o en taquilla del auditorio. \n \n  \n 
URL:https://turismo.campisur.eu/evento/cine-de-verano/
LOCATION:Córdoba
CATEGORIES:Puente Genil
END:VEVENT
BEGIN:VEVENT
DTSTART;TZID=Europe/Madrid:20250807T203000
DTEND;TZID=Europe/Madrid:20250807T220000
DTSTAMP:20260425T231007
CREATED:20250731T084312Z
LAST-MODIFIED:20250731T084312Z
UID:7964-1754598600-1754604000@turismo.campisur.eu
SUMMARY:Risa en Puente Genil
DESCRIPTION:Y lo tendremos en Puente Genil con su nuevo show “No tengo remedio”\, donde te encontrarás al David Navarro más auténtico\, esto es\, más cabreado que nunca. \n\n Porque todos necesitamos reír un poco más…\n¡Ven con quien tú quieras y llévate momentos inolvidables!\n\n NO TENGO REMEDIO Jueves\, 7 de agosto\n David NavarroAuditorio Hermanos Cuenca.\n\n\n Entradas ya disponibles en www.eventick.es \n\n\n Apertura de puertas: 20:30h\n Comienzo del show: 22:00h
URL:https://turismo.campisur.eu/evento/risa-en-puente-genil/
LOCATION:Puente Genil\, Córdoba\, 14500\, Spain
CATEGORIES:Puente Genil
END:VEVENT
BEGIN:VEVENT
DTSTART;TZID=Europe/Madrid:20250814T223000
DTEND;TZID=Europe/Madrid:20250814T223000
DTSTAMP:20260425T231007
CREATED:20250728T084003Z
LAST-MODIFIED:20250728T084003Z
UID:7870-1755210600-1755210600@turismo.campisur.eu
SUMMARY:Festival Cante Grande Fosforito
DESCRIPTION:¡El alma del flamenco vuelve a latir en Puente Genil! \n\n\n 59º edición del Festival de Cante Grande “Fosforito”\n\n\nEste año\, el festival rinde homenaje al querido flamencólogo local Juan Ortega Chacón y nos regala un cartel de lujo con artistas como Arcángel\, Julián Estrada\, La Fabi\, Pedro el Granaíno\, y muchos más\, bajo el embrujo del toque y el compás de grandes figuras. Todo esto en una sola noche mágica: jueves 14 de agosto a las 22:30 h en la Caseta Municipal.\n\n\n Entradas (a la venta a partir del viernes 25 de julio en Casa Ciudadana\, de lunes a viernes de 9 a 14h)\n\n\n15 € (individuales numeradas o no numeradas)\n\n\n25 € (pareja)\n\n\n10 € (pensionistas y jóvenes con carné de estudiante)
URL:https://turismo.campisur.eu/evento/festival-cante-grande-fosforito/
LOCATION:Puente Genil\, Córdoba\, 14500\, Spain
CATEGORIES:Puente Genil
END:VEVENT
BEGIN:VEVENT
DTSTART;TZID=Europe/Madrid:20250817T230000
DTEND;TZID=Europe/Madrid:20250817T230000
DTSTAMP:20260425T231007
CREATED:20250729T061107Z
LAST-MODIFIED:20250729T070632Z
UID:7934-1755471600-1755471600@turismo.campisur.eu
SUMMARY:Concierto Camela
DESCRIPTION:El próximo 17 de agosto\, Camela en la Caseta Municipal de Puente Genil.\nPrepárate para cantar\, sentir y revivir todos esos recuerdos que solo Camela sabe despertar. \n\n\n ¡No te quedes sin tu entrada! Consíguela aquí \nENTRADAS
URL:https://turismo.campisur.eu/evento/concierto-camela/
LOCATION:Puente Genil\, Córdoba\, 14500\, Spain
CATEGORIES:Puente Genil
END:VEVENT
END:VCALENDAR