BEGIN:VCALENDAR
VERSION:2.0
PRODID:-//Turismo Campiña Sur - ECPv6.13.2.1//NONSGML v1.0//EN
CALSCALE:GREGORIAN
METHOD:PUBLISH
X-WR-CALNAME:Turismo Campiña Sur
X-ORIGINAL-URL:https://turismo.campisur.eu
X-WR-CALDESC:Eventos para Turismo Campiña Sur
REFRESH-INTERVAL;VALUE=DURATION:PT1H
X-Robots-Tag:noindex
X-PUBLISHED-TTL:PT1H
BEGIN:VTIMEZONE
TZID:Europe/Madrid
BEGIN:DAYLIGHT
TZOFFSETFROM:+0100
TZOFFSETTO:+0200
TZNAME:CEST
DTSTART:20250330T010000
END:DAYLIGHT
BEGIN:STANDARD
TZOFFSETFROM:+0200
TZOFFSETTO:+0100
TZNAME:CET
DTSTART:20251026T010000
END:STANDARD
END:VTIMEZONE
BEGIN:VEVENT
DTSTART;TZID=Europe/Madrid:20250515T080000
DTEND;TZID=Europe/Madrid:20250613T170000
DTSTAMP:20260423T120812
CREATED:20250515T114609Z
LAST-MODIFIED:20250515T114609Z
UID:7160-1747296000-1749834000@turismo.campisur.eu
SUMMARY:ENBARRO
DESCRIPTION:Convocatoria de los concursos internacionales de alfarería y cerámica de La Rambla 2025.
URL:https://turismo.campisur.eu/evento/enbarro/
LOCATION:La Rambla\, Calle Era del Mirador\, 1\, La Rambla\, Córdoba\, 14540\, España
CATEGORIES:La Rambla
ATTACH;FMTTYPE=image/jpeg:https://turismo.campisur.eu/wp-content/uploads/2025/05/Nota-prensa-ENBARRO-25.jpg
END:VEVENT
END:VCALENDAR