BEGIN:VCALENDAR
VERSION:2.0
PRODID:-//Turismo Campiña Sur - ECPv6.13.2.1//NONSGML v1.0//EN
CALSCALE:GREGORIAN
METHOD:PUBLISH
X-WR-CALNAME:Turismo Campiña Sur
X-ORIGINAL-URL:https://turismo.campisur.eu
X-WR-CALDESC:Eventos para Turismo Campiña Sur
REFRESH-INTERVAL;VALUE=DURATION:PT1H
X-Robots-Tag:noindex
X-PUBLISHED-TTL:PT1H
BEGIN:VTIMEZONE
TZID:Europe/Madrid
BEGIN:DAYLIGHT
TZOFFSETFROM:+0100
TZOFFSETTO:+0200
TZNAME:CEST
DTSTART:20210328T010000
END:DAYLIGHT
BEGIN:STANDARD
TZOFFSETFROM:+0200
TZOFFSETTO:+0100
TZNAME:CET
DTSTART:20211031T010000
END:STANDARD
END:VTIMEZONE
BEGIN:VEVENT
DTSTART;VALUE=DATE:20210925
DTEND;VALUE=DATE:20211010
DTSTAMP:20260423T133956
CREATED:20210517T185154Z
LAST-MODIFIED:20210926T100350Z
UID:1670-1632528000-1633823999@turismo.campisur.eu
SUMMARY:Paxera
DESCRIPTION:Feria del Vino Dulce Pedro Ximénez\nPAXERA es una feria novedosa y atractiva que nace con el objetivo de dar a conocer todo el proceso de elaboración del vino dulce Pedro Ximénez y de poner en valor la pasera más grande de Europa. \nPAXERA tiene lugar en septiembre en el entorno del recinto ferial de Montemayor. Para ello se coloca una carpa que alberga stands para la venta y exhibición de productos y artesanía relacionados con el vino dulce y la repostería\, zona de restauración y ocio\, zona infantil\, escenario para actuaciones y presentaciones dentro del evento\, así como Aula PX dónde se realizan las actividades formativas. \nEl recinto cuenta con un espacio amplio para la asistencia de público en general y la ubicación de elementos decorativos y/o expositivos. \n  \nRecogida uva Pedro Ximénez durante la feria. \n \n  \n 
URL:https://turismo.campisur.eu/evento/paxera/
LOCATION:Montemayor\, Montemayor\, Montemayor\, Córdoba\, 14530
CATEGORIES:Fiestas Populares,Montemayor
ATTACH;FMTTYPE=image/jpeg:https://turismo.campisur.eu/wp-content/uploads/2021/05/IMG_0222.jpg
END:VEVENT
BEGIN:VEVENT
DTSTART;VALUE=DATE:20211022
DTEND;VALUE=DATE:20211025
DTSTAMP:20260423T133956
CREATED:20210201T192857Z
LAST-MODIFIED:20210926T100442Z
UID:101-1634860800-1635119999@turismo.campisur.eu
SUMMARY:Cata de Moriles
DESCRIPTION:Ven a la Cata de Moriles\nDel 23 al 24 de Octubre se celebrará la XXIII edición de esta Expo Vino de Moriles que tiene como preámbulo la Jornada Técnica dirigida a profesionales del sector el día 21. Organiza el Ayuntamiento de Moriles y la Asociación Bodegas de Moriles. \nLa Cata de Moriles Expo Wine Moriles ofrecerá un año más la presentación de los Vinos de Moriles de las Bodegas\, Lagares y Cooperativas presentes. Esta edición está llena de novedades\, como visitas a bodegas\, nuevos vinos\, catas dirigidas\, experiencias gastronómicas dentro de la Cata. \nPodrás recorrer y conocer cuantas bodegas\, lagares y cooperativas quieras\, pudiendo dedicar el tiempo que desees a cada bodega\, degustano vinos y maridando si te apetece y e ir a la siguiente de tu ruta personal\, cuantas veces quieras\, dentro del horario previsto. \nDisfruta de sus establecimientos de hostelería y de todo un pueblo volcado en la celebración uno de sus eventos más importantes del año. Ven a disfrutar de la XXIII Edición de la Cata de Moriles. \n  \n  \n 
URL:https://turismo.campisur.eu/evento/cata-de-moriles/
LOCATION:Moriles\, Moriles\, Moriles\, Córdoba\, 14510
CATEGORIES:Fiestas Populares,Moriles
ATTACH;FMTTYPE=image/jpeg:https://turismo.campisur.eu/wp-content/uploads/2021/02/IMG_0223.jpg
END:VEVENT
END:VCALENDAR