BEGIN:VCALENDAR
VERSION:2.0
PRODID:-//Turismo Campiña Sur - ECPv6.13.2.1//NONSGML v1.0//EN
CALSCALE:GREGORIAN
METHOD:PUBLISH
X-ORIGINAL-URL:https://turismo.campisur.eu
X-WR-CALDESC:Eventos para Turismo Campiña Sur
REFRESH-INTERVAL;VALUE=DURATION:PT1H
X-Robots-Tag:noindex
X-PUBLISHED-TTL:PT1H
BEGIN:VTIMEZONE
TZID:Europe/Madrid
BEGIN:DAYLIGHT
TZOFFSETFROM:+0100
TZOFFSETTO:+0200
TZNAME:CEST
DTSTART:20250330T010000
END:DAYLIGHT
BEGIN:STANDARD
TZOFFSETFROM:+0200
TZOFFSETTO:+0100
TZNAME:CET
DTSTART:20251026T010000
END:STANDARD
END:VTIMEZONE
BEGIN:VEVENT
DTSTART;TZID=Europe/Madrid:20251012T080000
DTEND;TZID=Europe/Madrid:20251012T170000
DTSTAMP:20260423T213240
CREATED:20250905T110100Z
LAST-MODIFIED:20250905T110418Z
UID:8093-1760256000-1760288400@turismo.campisur.eu
SUMMARY:Carrera Fernán Núñez
DESCRIPTION:XX LEGUA “VILLA DE FERNÁN NÚÑEZ” \n\n\n Domingo 12 de Octubre\n Parque del Auditorio – Fernán Núñez\n\n\n Inscripciones abiertas:\n Inscripciones\n\n\n Inicio de carreras: 10:00 h\n Prueba Reina: 12:00 h\n\n\n ¡Ven a disfrutar del deporte\, la emoción y el ambiente deportivo único de nuestro pueblo!
URL:https://turismo.campisur.eu/evento/carrera-fernan-nunez-2/
LOCATION:Fernán Núñez\, Córdoba\, 14520\, Spain
CATEGORIES:Fernan Núñez
ATTACH;FMTTYPE=image/jpeg:https://turismo.campisur.eu/wp-content/uploads/2025/09/12octubre-carrera-Fernan-Nunez.jpg
END:VEVENT
END:VCALENDAR