BEGIN:VCALENDAR
VERSION:2.0
PRODID:-//Turismo Campiña Sur - ECPv6.13.2.1//NONSGML v1.0//EN
CALSCALE:GREGORIAN
METHOD:PUBLISH
X-WR-CALNAME:Turismo Campiña Sur
X-ORIGINAL-URL:https://turismo.campisur.eu
X-WR-CALDESC:Eventos para Turismo Campiña Sur
REFRESH-INTERVAL;VALUE=DURATION:PT1H
X-Robots-Tag:noindex
X-PUBLISHED-TTL:PT1H
BEGIN:VTIMEZONE
TZID:Europe/Madrid
BEGIN:DAYLIGHT
TZOFFSETFROM:+0100
TZOFFSETTO:+0200
TZNAME:CEST
DTSTART:20250330T010000
END:DAYLIGHT
BEGIN:STANDARD
TZOFFSETFROM:+0200
TZOFFSETTO:+0100
TZNAME:CET
DTSTART:20251026T010000
END:STANDARD
END:VTIMEZONE
BEGIN:VEVENT
DTSTART;TZID=Europe/Madrid:20250725T080000
DTEND;TZID=Europe/Madrid:20250816T170000
DTSTAMP:20260424T021922
CREATED:20250725T092553Z
LAST-MODIFIED:20250725T092553Z
UID:7740-1753430400-1755363600@turismo.campisur.eu
SUMMARY:Carrera Fernán Núñez
DESCRIPTION:Carrera Pedestre – Feria Real 2025 Fernán Núñez\n\n\n Sábado 16 de agosto de 2024\n A partir de las 20:00h\nSalida y meta en el Parque del Auditorio\, junto a la Escuela Municipal de Música \n\n\n ¡Estrenamos recorrido! 5 km de pura energía\, emoción y ambiente festivo \nCorre con tus amigos\, supera tus límites y ¡vive la feria de una forma única! \n\n\n Toda la info la tienes en las imágenes de la publicación.\n Inscripciones aquí: INSCRIPCIONES\n Para cualquier duda o información escríbenos a oficinadeportesfn@gmail.com
URL:https://turismo.campisur.eu/evento/carrera-fernan-nunez/
LOCATION:Fernán Núñez\, Córdoba\, 14520\, Spain
CATEGORIES:Fernan Núñez
END:VEVENT
BEGIN:VEVENT
DTSTART;TZID=Europe/Madrid:20250731T080000
DTEND;TZID=Europe/Madrid:20250802T170000
DTSTAMP:20260424T021922
CREATED:20250725T093625Z
LAST-MODIFIED:20250725T093751Z
UID:7754-1753948800-1754154000@turismo.campisur.eu
SUMMARY:Festival de Teatro de Fernán Núñez
DESCRIPTION:VII Festival de Teatro de Fernán Núñez \nJueves 31 a las 21:00 horas en el Paseo de Santa Marina\, con Pasacalles de zancudos y batukada. \nJueves 31 a las 22:30h/ Recinto Ferial “Pinocho\, el Musical”\n\n  \n\n\n\n\n\n\n\n\n\n\nViernes 1 a las 22:00h | Recinto Ferial “El Palermasso. Función principal… ¡Yo creo que salimos!”\n\n\n\n\n\n\n\n\n\n\n\n\n\n\n\n\nViernes 1 a las 00:00h | Jardín del Palacio Ducal “La hija de Yemayá” Actriz: Laura Artolachipi\n\n\n\n\n\n\n\n\n\n\n\n\n\n\n\nSábado 2 de agosto a las 22:00h | Recinto Ferial «Abre Fácil» Elenco: Salva Reina; Álvaro Carrero; Natalia Roig; Rocío Rubio\n\n\n\n\n\n\n\n\n\n\n\n\n\n\n\n\n\n\n\n\nSábado 2 de agosto a las 00:00h | Jardín del Palacio Ducal “Casandra” Actriz: Marina Miranda
URL:https://turismo.campisur.eu/evento/festival-de-teatro-de-fernan-nunez/
LOCATION:Fernán Núñez\, Córdoba\, 14520\, Spain
CATEGORIES:Fernan Núñez
END:VEVENT
END:VCALENDAR